BEGIN:VCALENDAR
VERSION:2.0
PRODID:-//Hostatoschule Höchst - ECPv5.16.4//NONSGML v1.0//EN
CALSCALE:GREGORIAN
METHOD:PUBLISH
X-WR-CALNAME:Hostatoschule Höchst
X-ORIGINAL-URL:https://hostatoschule.de
X-WR-CALDESC:Veranstaltungen für Hostatoschule Höchst
BEGIN:VTIMEZONE
TZID:Europe/Berlin
BEGIN:DAYLIGHT
TZOFFSETFROM:+0100
TZOFFSETTO:+0200
TZNAME:CEST
DTSTART:20140330T010000
END:DAYLIGHT
BEGIN:STANDARD
TZOFFSETFROM:+0200
TZOFFSETTO:+0100
TZNAME:CET
DTSTART:20141026T010000
END:STANDARD
END:VTIMEZONE
BEGIN:VEVENT
DTSTART;VALUE=DATE:20141219
DTEND;VALUE=DATE:20141220
DTSTAMP:20260421T103908
CREATED:20141218T122040Z
LAST-MODIFIED:20141218T122040Z
UID:493-1418947200-1419033599@hostatoschule.de
SUMMARY:Letzter Schultag
DESCRIPTION:Vor den Winterferien 2014 / 2015
URL:https://hostatoschule.de/kalender/letzter-schultag/
END:VEVENT
END:VCALENDAR